BEGIN:VCALENDAR
VERSION:2.0
PRODID:spatie/icalendar-generator
DESCRIPTION:東武練馬、西台の美容室 美容院 remile（リマイ
 ル）のイベント
X-WR-CALDESC:東武練馬、西台の美容室 美容院 remile（リマイ
 ル）のイベント
REFRESH-INTERVAL;VALUE=DURATION:PT1440M
X-PUBLISHED-TTL:PT1440M
BEGIN:VTIMEZONE
TZID:Etc/GMT-9
BEGIN:STANDARD
DTSTART:20240405T000000Z
TZOFFSETFROM:+0900
TZOFFSETTO:+0900
END:STANDARD
END:VTIMEZONE
BEGIN:VTIMEZONE
TZID:UTC
BEGIN:STANDARD
DTSTART:20250724T121307Z
TZOFFSETFROM:+0000
TZOFFSETTO:+0000
END:STANDARD
END:VTIMEZONE
BEGIN:VEVENT
UID:7626-1921
DTSTAMP:20260420T121307Z
SUMMARY:冬休み
LOCATION:
ORGANIZER;CN=flicflac-nishidai:MAILTO:wukiwuki-wakuwaku@y9.dion.ne.jp
DTSTART;TZID=Etc/GMT-9;VALUE=DATE:20241231
DTEND;TZID=Etc/GMT-9;VALUE=DATE:20250101
X-ALT-DESC;FMTTYPE=TEXT/HTML:
CATEGORIES:リマイル西台
URL;VALUE=URI:https://hair-remile.com/mc-events/13871/
METHOD:PUBLISH
END:VEVENT
END:VCALENDAR